BEGIN:VCALENDAR
VERSION:2.0
PRODID:-//Stacey Halls - ECPv6.2.5//NONSGML v1.0//EN
CALSCALE:GREGORIAN
METHOD:PUBLISH
X-WR-CALNAME:Stacey Halls
X-ORIGINAL-URL:https://www.staceyhalls.com
X-WR-CALDESC:Events for Stacey Halls
REFRESH-INTERVAL;VALUE=DURATION:PT1H
X-Robots-Tag:noindex
X-PUBLISHED-TTL:PT1H
BEGIN:VTIMEZONE
TZID:Europe/London
BEGIN:DAYLIGHT
TZOFFSETFROM:+0000
TZOFFSETTO:+0100
TZNAME:BST
DTSTART:20210328T010000
END:DAYLIGHT
BEGIN:STANDARD
TZOFFSETFROM:+0100
TZOFFSETTO:+0000
TZNAME:GMT
DTSTART:20211031T010000
END:STANDARD
END:VTIMEZONE
BEGIN:VEVENT
DTSTART;TZID=Europe/London:20210610T193000
DTEND;TZID=Europe/London:20210610T210000
DTSTAMP:20260422T235927
CREATED:20210527T080140Z
LAST-MODIFIED:20210527T080241Z
UID:1007-1623353400-1623358800@www.staceyhalls.com
SUMMARY:Stacey Halls at Tring Book Festival - LIVE
DESCRIPTION:Join Stacey Halls has she celebrates the launch of her wonderful third novel Mrs England.\nStacey is in conversation with Harriet Queralt.\nThis is a LIVE EVENT at the High Street Baptist Church. You can either enjoy this event at the venue or watch a virtual stream from home – with or without a copy of Mrs England.\nNOTE – The first 50 x Book Orders will receive a SIGNED INDEPENDENT BOOKSHOP EDITION copy
URL:https://www.staceyhalls.com/event/stacey-halls-at-tring-book-festival-live/
LOCATION:High St Baptist Church\, 89 High Street\, Tring\, HP23 4AB\, United Kingdom
END:VEVENT
BEGIN:VEVENT
DTSTART;TZID=Europe/London:20210614T193000
DTEND;TZID=Europe/London:20210614T213000
DTSTAMP:20260422T235927
CREATED:20210527T080603Z
LAST-MODIFIED:20210601T081225Z
UID:1012-1623699000-1623706200@www.staceyhalls.com
SUMMARY:In Conversation with Waterstones
DESCRIPTION:‘Mesmerising\, entrancing\, a spellbinding novel of emotion and mystery….. Gripping to the very last page.’ – Kate Williams \nJoin Waterstones Online for this special event with Stacey Halls as she talks about her third novel Mrs England\, an intense portrait of an Edwardian marriage set against the atmospheric landscape of West Yorkshire.
URL:https://www.staceyhalls.com/event/in-conversation-with-waterstones/
END:VEVENT
END:VCALENDAR