BEGIN:VCALENDAR
VERSION:2.0
PRODID:-//Stacey Halls - ECPv6.2.5//NONSGML v1.0//EN
CALSCALE:GREGORIAN
METHOD:PUBLISH
X-ORIGINAL-URL:https://www.staceyhalls.com
X-WR-CALDESC:Events for Stacey Halls
REFRESH-INTERVAL;VALUE=DURATION:PT1H
X-Robots-Tag:noindex
X-PUBLISHED-TTL:PT1H
BEGIN:VTIMEZONE
TZID:Europe/London
BEGIN:DAYLIGHT
TZOFFSETFROM:+0000
TZOFFSETTO:+0100
TZNAME:BST
DTSTART:20190331T010000
END:DAYLIGHT
BEGIN:STANDARD
TZOFFSETFROM:+0100
TZOFFSETTO:+0000
TZNAME:GMT
DTSTART:20191027T010000
END:STANDARD
END:VTIMEZONE
BEGIN:VEVENT
DTSTART;TZID=Europe/London:20191012T183000
DTEND;TZID=Europe/London:20191012T193000
DTSTAMP:20260424T115937
CREATED:20191008T093222Z
LAST-MODIFIED:20191012T092451Z
UID:768-1570905000-1570908600@www.staceyhalls.com
SUMMARY:Birmingham Literature Festival
DESCRIPTION:Litwitchure with Stacey Halls and Rebecca Tamas
URL:https://www.staceyhalls.com/event/birmingham-literature-festival/
LOCATION:Birmingham & Midland Institute\, 9 Margaret St\, Birmingham B3 3BS\, UK\, 9 Margaret St\, Birmingham\, B3 3BS
END:VEVENT
BEGIN:VEVENT
DTSTART;TZID=Europe/London:20191013T120000
DTEND;TZID=Europe/London:20191013T183000
DTSTAMP:20260424T115937
CREATED:20191008T093407Z
LAST-MODIFIED:20191012T092552Z
UID:771-1570968000-1570991400@www.staceyhalls.com
SUMMARY:The Familiars at Gawthorpe Hall
DESCRIPTION:This event is a must for every fan of bestselling novel ‘The Familiars’\, set at Gawthorpe Hall in the early 17th century. \nRe-enactors will show what everyday life was like for women and men of the period. Plus\, during the afternoon Stacey Halls\, author of ‘The Familiars’\, will be talking about her inspiration for the novel and its characters\, how important Lancashire is as the setting for the story and what she is writing next. Stacey will also be available for book signings – bring your own or you can buy the newly published paperback version in the Hall shop.
URL:https://www.staceyhalls.com/event/the-familiars-at-gawthorpe-hall/
LOCATION:Gawthorpe Hall\, Burnley Road Padiham\, Burnley\, BB12 8UA
END:VEVENT
BEGIN:VEVENT
DTSTART;TZID=Europe/London:20191019T203000
DTEND;TZID=Europe/London:20191019T203000
DTSTAMP:20260424T115937
CREATED:20191008T093623Z
LAST-MODIFIED:20191012T092653Z
UID:774-1571517000-1571517000@www.staceyhalls.com
SUMMARY:Kildare Readers Festival
DESCRIPTION:Something Wicked This Way Comes with Niamh Boyce\, Stacey Halls and Martina Devlin \n‘Tis the season of Samhain and the Kildare Readers’ Festival will celebrate with an exciting panel discussion examining the depiction and characterisation of witches within the canon of literature. Whether it’s horror fiction or historical non-fiction\, Witches and Wiccan culture have provided rich material for authors and scholars throughout the years. On hand for a riveting discourse on the topic will be; acclaimed novelists Stacey Halls (The Familiars)\, Niamh Boyce (The Herbalist\, Her Kind)\, and Martina Devlin (Three Wise Men\, Be Careful What You Wish For\, Venus Reborn\, Temptation).
URL:https://www.staceyhalls.com/event/kildare-readers-festival/
LOCATION:Riverbank Arts Centre\, Main St\, Piercetown\, Newbridge\, Co. Kildare\, Co. Kildare\, W12 D962\, Ireland
END:VEVENT
END:VCALENDAR