BEGIN:VCALENDAR
VERSION:2.0
PRODID:-//Stacey Halls - ECPv6.2.5//NONSGML v1.0//EN
CALSCALE:GREGORIAN
METHOD:PUBLISH
X-WR-CALNAME:Stacey Halls
X-ORIGINAL-URL:https://www.staceyhalls.com
X-WR-CALDESC:Events for Stacey Halls
REFRESH-INTERVAL;VALUE=DURATION:PT1H
X-Robots-Tag:noindex
X-PUBLISHED-TTL:PT1H
BEGIN:VTIMEZONE
TZID:Europe/London
BEGIN:DAYLIGHT
TZOFFSETFROM:+0000
TZOFFSETTO:+0100
TZNAME:BST
DTSTART:20200329T010000
END:DAYLIGHT
BEGIN:STANDARD
TZOFFSETFROM:+0100
TZOFFSETTO:+0000
TZNAME:GMT
DTSTART:20201025T010000
END:STANDARD
END:VTIMEZONE
BEGIN:VEVENT
DTSTART;TZID=Europe/London:20200321T110000
DTEND;TZID=Europe/London:20200321T120000
DTSTAMP:20260424T044310
CREATED:20200103T144115Z
LAST-MODIFIED:20200103T144115Z
UID:931-1584788400-1584792000@www.staceyhalls.com
SUMMARY:The Alderney Literary Festival
DESCRIPTION:Novelist Stacey Halls is in conversation with Historical Writers Association President Imogen Robertson exploring themes of women’s voices and their place in society in Tracey’s two books: her bestselling debut novel The Familiars\, set in 1612\, and her second book\, The Foundling\, set in Georgian London.
URL:https://www.staceyhalls.com/event/the-alderney-literary-festival/
END:VEVENT
END:VCALENDAR