BEGIN:VCALENDAR
VERSION:2.0
PRODID:-//Stacey Halls - ECPv6.2.5//NONSGML v1.0//EN
CALSCALE:GREGORIAN
METHOD:PUBLISH
X-WR-CALNAME:Stacey Halls
X-ORIGINAL-URL:https://www.staceyhalls.com
X-WR-CALDESC:Events for Stacey Halls
REFRESH-INTERVAL;VALUE=DURATION:PT1H
X-Robots-Tag:noindex
X-PUBLISHED-TTL:PT1H
BEGIN:VTIMEZONE
TZID:Europe/London
BEGIN:DAYLIGHT
TZOFFSETFROM:+0000
TZOFFSETTO:+0100
TZNAME:BST
DTSTART:20200329T010000
END:DAYLIGHT
BEGIN:STANDARD
TZOFFSETFROM:+0100
TZOFFSETTO:+0000
TZNAME:GMT
DTSTART:20201025T010000
END:STANDARD
END:VTIMEZONE
BEGIN:VEVENT
DTSTART;TZID=Europe/London:20200214T183000
DTEND;TZID=Europe/London:20200317T210000
DTSTAMP:20260424T044311
CREATED:20200110T142222Z
LAST-MODIFIED:20200113T145908Z
UID:953-1581705000-1584478800@www.staceyhalls.com
SUMMARY:Red Lion Books\, Colchester
DESCRIPTION:This is a free event but we ask that you reserve a ticket as seating is limited.
URL:https://www.staceyhalls.com/event/red-lion-books-colchester/
LOCATION:Red Lion Books\, 125 High Street\, Colchester\, CO1 1SZ
END:VEVENT
BEGIN:VEVENT
DTSTART;TZID=Europe/London:20200227T190000
DTEND;TZID=Europe/London:20200227T213000
DTSTAMP:20260424T044311
CREATED:20200103T143812Z
LAST-MODIFIED:20200103T143812Z
UID:928-1582830000-1582839000@www.staceyhalls.com
SUMMARY:Stripey Badger Bookshop\, Grassington
DESCRIPTION:We’re thrilled that Stacey Halls\, author of the best-selling The Familiars\, will be coming along to The Octagon on 27th February at 7pm to talk about her latest book The Foundling. \n\nTickets £7.00 from The Stripey Badger Bookshop (phone 01756 753853). Books will be on sale on the evening\, discounted with a show offer.
URL:https://www.staceyhalls.com/event/stripey-badger-bookshop-grassington/
LOCATION:Stripey Badger Bookshop\, 7 The Square\, Grassington\, BD23 5AQ
END:VEVENT
END:VCALENDAR