BEGIN:VCALENDAR
VERSION:2.0
PRODID:-//Stacey Halls - ECPv6.2.5//NONSGML v1.0//EN
CALSCALE:GREGORIAN
METHOD:PUBLISH
X-WR-CALNAME:Stacey Halls
X-ORIGINAL-URL:https://www.staceyhalls.com
X-WR-CALDESC:Events for Stacey Halls
REFRESH-INTERVAL;VALUE=DURATION:PT1H
X-Robots-Tag:noindex
X-PUBLISHED-TTL:PT1H
BEGIN:VTIMEZONE
TZID:Europe/London
BEGIN:DAYLIGHT
TZOFFSETFROM:+0000
TZOFFSETTO:+0100
TZNAME:BST
DTSTART:20200329T010000
END:DAYLIGHT
BEGIN:STANDARD
TZOFFSETFROM:+0100
TZOFFSETTO:+0000
TZNAME:GMT
DTSTART:20201025T010000
END:STANDARD
END:VTIMEZONE
BEGIN:VEVENT
DTSTART;TZID=Europe/London:20200212T183000
DTEND;TZID=Europe/London:20200212T200000
DTSTAMP:20260424T062912
CREATED:20200103T142834Z
LAST-MODIFIED:20200103T142834Z
UID:922-1581532200-1581537600@www.staceyhalls.com
SUMMARY:Waterstones Liverpool
DESCRIPTION:Join us on February 12th for our book talk and signing event with Stacey Halls\, bestselling author of ‘The Familiars’! Released on February 6th\, ‘The Foundling’ is the much-anticipated sequel and we cannot wait! The evening will be in-conversation with Simon Savidge\, from @savidgereads.
URL:https://www.staceyhalls.com/event/waterstones-liverpool/
LOCATION:Waterstones Livepool\, 12 College Lane\, Liverpool\, L1 3DL
END:VEVENT
END:VCALENDAR