BEGIN:VCALENDAR
VERSION:2.0
PRODID:-//Stacey Halls - ECPv6.2.5//NONSGML v1.0//EN
CALSCALE:GREGORIAN
METHOD:PUBLISH
X-ORIGINAL-URL:https://www.staceyhalls.com
X-WR-CALDESC:Events for Stacey Halls
REFRESH-INTERVAL;VALUE=DURATION:PT1H
X-Robots-Tag:noindex
X-PUBLISHED-TTL:PT1H
BEGIN:VTIMEZONE
TZID:Europe/London
BEGIN:DAYLIGHT
TZOFFSETFROM:+0000
TZOFFSETTO:+0100
TZNAME:BST
DTSTART:20200329T010000
END:DAYLIGHT
BEGIN:STANDARD
TZOFFSETFROM:+0100
TZOFFSETTO:+0000
TZNAME:GMT
DTSTART:20201025T010000
END:STANDARD
END:VTIMEZONE
BEGIN:VEVENT
DTSTART;TZID=Europe/London:20200210T183000
DTEND;TZID=Europe/London:20200210T200000
DTSTAMP:20260424T063010
CREATED:20200103T142159Z
LAST-MODIFIED:20200103T142159Z
UID:915-1581359400-1581364800@www.staceyhalls.com
SUMMARY:Blackwell's Edinburgh
DESCRIPTION:Blackwell’s is delighted to be hosting an evening with Stacey Halls\, talking about her brilliant second novel ‘The Foundling’.\n\n\n\n\n\n\n\n\n\nThe bookshop has level access\, events are seated and speakers use microphones. If you have any concerns about accessibility\, please do get in touch and we will do our best to accommodate your needs. For more information\, or if you would like a signed copy because you can’t make it to the event\, please contact the Blackwell’s Edinburgh events team on 0131 622 8237 or events.edinburgh@blackwell.co.uk.
URL:https://www.staceyhalls.com/event/blackwells-edinburgh/
LOCATION:Blackwells Edinburgh\, 53-62 South Bridge\, Edinburgh\, EH1 1YS
END:VEVENT
END:VCALENDAR