BEGIN:VCALENDAR
VERSION:2.0
PRODID:-//Stacey Halls - ECPv6.2.5//NONSGML v1.0//EN
CALSCALE:GREGORIAN
METHOD:PUBLISH
X-ORIGINAL-URL:https://www.staceyhalls.com
X-WR-CALDESC:Events for Stacey Halls
REFRESH-INTERVAL;VALUE=DURATION:PT1H
X-Robots-Tag:noindex
X-PUBLISHED-TTL:PT1H
BEGIN:VTIMEZONE
TZID:Europe/London
BEGIN:DAYLIGHT
TZOFFSETFROM:+0000
TZOFFSETTO:+0100
TZNAME:BST
DTSTART:20200329T010000
END:DAYLIGHT
BEGIN:STANDARD
TZOFFSETFROM:+0100
TZOFFSETTO:+0000
TZNAME:GMT
DTSTART:20201025T010000
END:STANDARD
END:VTIMEZONE
BEGIN:VEVENT
DTSTART;TZID=Europe/London:20200206T190000
DTEND;TZID=Europe/London:20200206T190000
DTSTAMP:20260424T063108
CREATED:20200103T141210Z
LAST-MODIFIED:20200103T141210Z
UID:904-1581015600-1581015600@www.staceyhalls.com
SUMMARY:The Bookshop East Grinstead
DESCRIPTION:An evening with Stacey Halls \nAuthor of 2019 bestselling debut ‘The Familiars\, Stacey Hall\, will be launching her new novel\, and discussing ‘The Foundling’ at The Bookshop on Thursday 6th February…
URL:https://www.staceyhalls.com/event/the-bookshop-east-grinstead/
LOCATION:The Bookshop\, 22 High St\, East Grinstead\, RH19 3AW
END:VEVENT
END:VCALENDAR